BEGIN:VCALENDAR
VERSION:2.0
PRODID:-//wp-events-plugin.com//7.0.4//EN
TZID:America/Toronto
X-WR-TIMEZONE:America/Toronto
BEGIN:VEVENT
UID:2544@torontogothevents.com
DTSTART;TZID=America/Toronto:20260425T200000
DTEND;TZID=America/Toronto:20260425T210000
DTSTAMP:20260422T200851Z
URL:https://www.torontogothevents.com/events/a-hollywood-horror-story-the-
 punk-legacy-of-vampira-2/
SUMMARY:A Hollywood Horror Story: The Punk Legacy of Vampira
DESCRIPTION:Long before Elvira\, television’s first horror host\, Vampira
 \, titillated and terrified 1950s America. 18-time award-winning Fringe ve
 teran Ingrid Garner harnesses her signature gift for transformation to res
 urrect the legend behind Hollywood’s most fascinating forgotten icon. De
 livered as an episode of “The Vampira Show”\, the mercurial life of he
 r creator\, Maila Nurmi\, unearths in an electrifying multimedia performan
 ce.\n\ncost: $21.80 at TicketTailor\n\nmore info: Sweet Action Theatre\n\n
 &nbsp\;
ATTACH;FMTTYPE=image/jpeg:https://www.torontogothevents.com/wp-content/upl
 oads/2026/04/20260424_hollywoodhorrorstory.jpg
CATEGORIES:Theatre &amp; Performance
LOCATION:Sweet Action Theatre\, 180 Shaw St. Unit 106\, Toronto\, ON\, Cana
 da
X-APPLE-STRUCTURED-LOCATION;VALUE=URI;X-ADDRESS=180 Shaw St. Unit 106\, Tor
 onto\, ON\, Canada;X-APPLE-RADIUS=100;X-TITLE=Sweet Action Theatre:geo:0,0
END:VEVENT
BEGIN:VTIMEZONE
TZID:America/Toronto
X-LIC-LOCATION:America/Toronto
BEGIN:DAYLIGHT
DTSTART:20260308T030000
TZOFFSETFROM:-0500
TZOFFSETTO:-0400
TZNAME:EDT
END:DAYLIGHT
END:VTIMEZONE
END:VCALENDAR