BEGIN:VCALENDAR
VERSION:2.0
PRODID:-//wp-events-plugin.com//7.0.4//EN
TZID:America/Toronto
X-WR-TIMEZONE:America/Toronto
BEGIN:VEVENT
UID:2304@torontogothevents.com
DTSTART;TZID=America/Toronto:20260522T190000
DTEND;TZID=America/Toronto:20260522T230000
DTSTAMP:20260227T190017Z
URL:https://www.torontogothevents.com/events/alestorm-with-twilight-force-
 greyhawk/
SUMMARY:Alestorm with Twilight Force & Greyhawk
DESCRIPTION:Scottish pirate metal band ALESTORM brings their Mostly Canadia
 n Tour 2026 to Toronto\, with support from TWILIGHT FORCE and GREYHAWK.\n\
 ncost: $56.25 to $69 at Ticketmaster\n\nmore info: Inertia Entertainment
ATTACH;FMTTYPE=image/jpeg:https://www.torontogothevents.com/wp-content/upl
 oads/2026/02/20260522_alestorm.jpg
CATEGORIES:Concerts
LOCATION:Rebel\, 11 Polson St.\, Toronto\, ON\, Canada
X-APPLE-STRUCTURED-LOCATION;VALUE=URI;X-ADDRESS=11 Polson St.\, Toronto\, O
 N\, Canada;X-APPLE-RADIUS=100;X-TITLE=Rebel:geo:0,0
END:VEVENT
BEGIN:VTIMEZONE
TZID:America/Toronto
X-LIC-LOCATION:America/Toronto
BEGIN:DAYLIGHT
DTSTART:20260308T030000
TZOFFSETFROM:-0500
TZOFFSETTO:-0400
TZNAME:EDT
END:DAYLIGHT
END:VTIMEZONE
END:VCALENDAR