BEGIN:VCALENDAR
VERSION:2.0
PRODID:-//wp-events-plugin.com//7.0.4//EN
TZID:America/Toronto
X-WR-TIMEZONE:America/Toronto
BEGIN:VEVENT
UID:2061@torontogothevents.com
DTSTART;TZID=America/Toronto:20260605T220000
DTEND;TZID=America/Toronto:20260606T020000
DTSTAMP:20260305T033650Z
URL:https://www.torontogothevents.com/events/all-cats-are-grey-17/
SUMMARY:All Cats Are Grey
DESCRIPTION:Join DJ BLUSH &amp\; DJ DANGERCAT as the spooky sisters give yo
 u an evening of\n\nPOST-PUNK\nSYNTHPOP\nPUNK ROCK\nGOTH BOPS\n\ncost: fre
 e\n\nmore info: Instagram
ATTACH;FMTTYPE=image/jpeg:https://www.torontogothevents.com/wp-content/upl
 oads/2025/09/20251003_allcatsaregrey.jpg
CATEGORIES:DJ Nights
LOCATION:Swan Dive\, 1631 Dundas St. W.\, Toronto\, ON\, Canada
X-APPLE-STRUCTURED-LOCATION;VALUE=URI;X-ADDRESS=1631 Dundas St. W.\, Toront
 o\, ON\, Canada;X-APPLE-RADIUS=100;X-TITLE=Swan Dive:geo:0,0
END:VEVENT
BEGIN:VTIMEZONE
TZID:America/Toronto
X-LIC-LOCATION:America/Toronto
BEGIN:DAYLIGHT
DTSTART:20260308T030000
TZOFFSETFROM:-0500
TZOFFSETTO:-0400
TZNAME:EDT
END:DAYLIGHT
END:VTIMEZONE
END:VCALENDAR