BEGIN:VCALENDAR
VERSION:2.0
PRODID:-//wp-events-plugin.com//7.0.4//EN
TZID:America/Toronto
X-WR-TIMEZONE:America/Toronto
BEGIN:VEVENT
UID:2494@torontogothevents.com
DTSTART;TZID=America/Toronto:20260809T180000
DTEND;TZID=America/Toronto:20260809T230000
DTSTAMP:20260413T212051Z
URL:https://www.torontogothevents.com/events/angelmaker-with-ingested-disf
 iguring-the-goddess/
SUMMARY:AngelMaker with Ingested & Disfiguring The Goddess
DESCRIPTION:Vancouver deathcore band ANGELMAKER brings the Canadian Heritag
 e Tour to Toronto\, with support from INGESTED and DISFIGURING THE GODDESS
 .\n\ncost: $38.27 at Ticketweb\n\nmore info: Inertia Entertainment
ATTACH;FMTTYPE=image/jpeg:https://www.torontogothevents.com/wp-content/upl
 oads/2026/04/20260809_angelmaker.jpg
CATEGORIES:Concerts
LOCATION:Lee's Palace\, 529 Bloor St. W.\, Toronto\, ON\, Canada
X-APPLE-STRUCTURED-LOCATION;VALUE=URI;X-ADDRESS=529 Bloor St. W.\, Toronto\
 , ON\, Canada;X-APPLE-RADIUS=100;X-TITLE=Lee's Palace:geo:0,0
END:VEVENT
BEGIN:VTIMEZONE
TZID:America/Toronto
X-LIC-LOCATION:America/Toronto
BEGIN:DAYLIGHT
DTSTART:20260308T030000
TZOFFSETFROM:-0500
TZOFFSETTO:-0400
TZNAME:EDT
END:DAYLIGHT
END:VTIMEZONE
END:VCALENDAR