BEGIN:VCALENDAR
VERSION:2.0
PRODID:-//wp-events-plugin.com//7.0.4//EN
TZID:America/Toronto
X-WR-TIMEZONE:America/Toronto
BEGIN:VEVENT
UID:2311@torontogothevents.com
DTSTART;TZID=America/Toronto:20260425T210000
DTEND;TZID=America/Toronto:20260426T020000
DTSTAMP:20260227T213634Z
URL:https://www.torontogothevents.com/events/bloodrave/
SUMMARY:Bloodrave
DESCRIPTION:Welcome to BLOODRAVE\, a goth/techno/industrial dance night tha
 t puts you at the center of your favorite neo futuristic dystopian rave sc
 ene. Killer DJs\, special vampiric drinks\, the occasional wailing guitar\
 , and fiery cage dancers are just some of what you can expect for a night 
 of debauchery you will never forget.\n\ncost: $35.08 at Ticketweb\n\nmore 
 info: Facebook
ATTACH;FMTTYPE=image/jpeg:https://www.torontogothevents.com/wp-content/upl
 oads/2025/11/20251220_bloodrave.jpg
CATEGORIES:DJ Nights
LOCATION:Lee's Palace\, 529 Bloor St. W.\, Toronto\, ON\, Canada
X-APPLE-STRUCTURED-LOCATION;VALUE=URI;X-ADDRESS=529 Bloor St. W.\, Toronto\
 , ON\, Canada;X-APPLE-RADIUS=100;X-TITLE=Lee's Palace:geo:0,0
END:VEVENT
BEGIN:VTIMEZONE
TZID:America/Toronto
X-LIC-LOCATION:America/Toronto
BEGIN:DAYLIGHT
DTSTART:20260308T030000
TZOFFSETFROM:-0500
TZOFFSETTO:-0400
TZNAME:EDT
END:DAYLIGHT
END:VTIMEZONE
END:VCALENDAR