BEGIN:VCALENDAR
VERSION:2.0
PRODID:-//wp-events-plugin.com//7.0.4//EN
TZID:America/Toronto
X-WR-TIMEZONE:America/Toronto
BEGIN:VEVENT
UID:2312@torontogothevents.com
DTSTART;TZID=America/Toronto:20260909T170000
DTEND;TZID=America/Toronto:20260909T230000
DTSTAMP:20260227T214053Z
URL:https://www.torontogothevents.com/events/breaking-benjamin/
SUMMARY:Breaking Benjamin
DESCRIPTION:Alt-metal veterans BREAKING BENJAMIN return to Toronto\, with s
 upport from CHEVELLE\, STARSET and KAMI KEHOE.\n\ncost: $72.50 and up at T
 icketmaster\n\nmore info: Facebook
ATTACH;FMTTYPE=image/jpeg:https://www.torontogothevents.com/wp-content/upl
 oads/2026/02/20260909_breakingbenjamin.jpg
CATEGORIES:Concerts
LOCATION:RBC Amphitheatre\, 909 Lakeshore Blvd. W.\, Toronto\, ON\, Canada
X-APPLE-STRUCTURED-LOCATION;VALUE=URI;X-ADDRESS=909 Lakeshore Blvd. W.\, To
 ronto\, ON\, Canada;X-APPLE-RADIUS=100;X-TITLE=RBC Amphitheatre:geo:0,0
END:VEVENT
BEGIN:VTIMEZONE
TZID:America/Toronto
X-LIC-LOCATION:America/Toronto
BEGIN:DAYLIGHT
DTSTART:20260308T030000
TZOFFSETFROM:-0500
TZOFFSETTO:-0400
TZNAME:EDT
END:DAYLIGHT
END:VTIMEZONE
END:VCALENDAR