BEGIN:VCALENDAR
VERSION:2.0
PRODID:-//wp-events-plugin.com//7.0.4//EN
TZID:America/Toronto
X-WR-TIMEZONE:America/Toronto
BEGIN:VEVENT
UID:2534@torontogothevents.com
DTSTART;TZID=America/Toronto:20260811T190000
DTEND;TZID=America/Toronto:20260811T230000
DTSTAMP:20260421T153457Z
URL:https://www.torontogothevents.com/events/casket-cassette-with-stare-aw
 ay/
SUMMARY:Casket Cassette with Stare Away
DESCRIPTION:CASKET CASSETTE - aka Los Angeles artist Constant Williams - br
 ings his blend of post-punk\, darkwave\, new wave\, EBM\, synthpop\, and a
 lternative to Toronto\, with support from NYC's STARE AWAY.\n\ncost: $22.7
 0 at DICE\n\nmore info: Facebook
ATTACH;FMTTYPE=image/jpeg:https://www.torontogothevents.com/wp-content/upl
 oads/2026/04/20260811_casketcassette.jpg
CATEGORIES:Concerts
LOCATION:The Baby G\, 1608 Dundas St. W.\, Toronto\, ON\, Canada
X-APPLE-STRUCTURED-LOCATION;VALUE=URI;X-ADDRESS=1608 Dundas St. W.\, Toront
 o\, ON\, Canada;X-APPLE-RADIUS=100;X-TITLE=The Baby G:geo:0,0
END:VEVENT
BEGIN:VTIMEZONE
TZID:America/Toronto
X-LIC-LOCATION:America/Toronto
BEGIN:DAYLIGHT
DTSTART:20260308T030000
TZOFFSETFROM:-0500
TZOFFSETTO:-0400
TZNAME:EDT
END:DAYLIGHT
END:VTIMEZONE
END:VCALENDAR