BEGIN:VCALENDAR
VERSION:2.0
PRODID:-//wp-events-plugin.com//7.0.4//EN
TZID:America/Toronto
X-WR-TIMEZONE:America/Toronto
BEGIN:VEVENT
UID:2316@torontogothevents.com
DTSTART;TZID=America/Toronto:20260521T190000
DTEND;TZID=America/Toronto:20260521T230000
DTSTAMP:20260227T220142Z
URL:https://www.torontogothevents.com/events/chapterhouse-with-shes-green/
SUMMARY:Chapterhouse with She's Green
DESCRIPTION:Shoegaze originators CHAPTERHOUSE come to Toronto on a tour cel
 ebrating the 35th anniversary of their landmark debut album Whirlpool\, wi
 th support from SHE'S GREEN.\n\ncost: $54.86 at Ticketweb\n\nmore info: Fa
 cebook
ATTACH;FMTTYPE=image/jpeg:https://www.torontogothevents.com/wp-content/upl
 oads/2026/02/20260521_chapterhouse.jpg
CATEGORIES:Concerts
LOCATION:The Concert Hall\, 888 Yonge St.\, Toronto\, ON\, Canada
X-APPLE-STRUCTURED-LOCATION;VALUE=URI;X-ADDRESS=888 Yonge St.\, Toronto\, O
 N\, Canada;X-APPLE-RADIUS=100;X-TITLE=The Concert Hall:geo:0,0
END:VEVENT
BEGIN:VTIMEZONE
TZID:America/Toronto
X-LIC-LOCATION:America/Toronto
BEGIN:DAYLIGHT
DTSTART:20260308T030000
TZOFFSETFROM:-0500
TZOFFSETTO:-0400
TZNAME:EDT
END:DAYLIGHT
END:VTIMEZONE
END:VCALENDAR