BEGIN:VCALENDAR
VERSION:2.0
PRODID:-//wp-events-plugin.com//7.0.4//EN
TZID:America/Toronto
X-WR-TIMEZONE:America/Toronto
BEGIN:VEVENT
UID:2528@torontogothevents.com
DTSTART;TZID=America/Toronto:20260430T220000
DTEND;TZID=America/Toronto:20260501T020000
DTSTAMP:20260421T150056Z
URL:https://www.torontogothevents.com/events/club-scvm/
SUMMARY:Club Scvm
DESCRIPTION:Clvb Scvm with DJ Detra features Classic Industrial with modern
  Dark Synth\, Cyberpunk\, and Dark Electronic all night!\n\ncost: free\n\n
 more info: Facebook
ATTACH;FMTTYPE=image/jpeg:https://www.torontogothevents.com/wp-content/upl
 oads/2026/04/20260430_clubscvm.jpg
CATEGORIES:DJ Nights
LOCATION:Swan Dive\, 1631 Dundas St. W.\, Toronto\, ON\, Canada
X-APPLE-STRUCTURED-LOCATION;VALUE=URI;X-ADDRESS=1631 Dundas St. W.\, Toront
 o\, ON\, Canada;X-APPLE-RADIUS=100;X-TITLE=Swan Dive:geo:0,0
END:VEVENT
BEGIN:VTIMEZONE
TZID:America/Toronto
X-LIC-LOCATION:America/Toronto
BEGIN:DAYLIGHT
DTSTART:20260308T030000
TZOFFSETFROM:-0500
TZOFFSETTO:-0400
TZNAME:EDT
END:DAYLIGHT
END:VTIMEZONE
END:VCALENDAR