BEGIN:VCALENDAR
VERSION:2.0
PRODID:-//wp-events-plugin.com//7.0.4//EN
TZID:America/Toronto
X-WR-TIMEZONE:America/Toronto
BEGIN:VEVENT
UID:2545@torontogothevents.com
DTSTART;TZID=America/Toronto:20260424T200000
DTEND;TZID=America/Toronto:20260424T230000
DTSTAMP:20260422T201651Z
URL:https://www.torontogothevents.com/events/consumed-circus-of-the-seven-
 deadly-sins/
SUMMARY:Consumed - Circus of the Seven Deadly Sins
DESCRIPTION:ESCape Productions presents Consumed\, an aerial circus show an
 d cabaret of wonders.\n\nWelcome to our underground club where you'll see 
 acts on silks\, rope\, straps\, hoop\, pole\, and chains that will tempt y
 ou to never leave. This show will have you wanting to give in to every dea
 dly sin with reckless abandon. This is an one night only performance\, so 
 don't miss your chance to consume or be consumed.\n\ncost: various prices 
 at Redwood Theatre\n\nmore info: ESCape Productions
ATTACH;FMTTYPE=image/jpeg:https://www.torontogothevents.com/wp-content/upl
 oads/2026/04/20260424_consumed.jpg
CATEGORIES:Theatre &amp; Performance
LOCATION:Redwood Theatre\, 1300 Gerrard St. E.\, Toronto\, ON\, Canada
X-APPLE-STRUCTURED-LOCATION;VALUE=URI;X-ADDRESS=1300 Gerrard St. E.\, Toron
 to\, ON\, Canada;X-APPLE-RADIUS=100;X-TITLE=Redwood Theatre:geo:0,0
END:VEVENT
BEGIN:VTIMEZONE
TZID:America/Toronto
X-LIC-LOCATION:America/Toronto
BEGIN:DAYLIGHT
DTSTART:20260308T030000
TZOFFSETFROM:-0500
TZOFFSETTO:-0400
TZNAME:EDT
END:DAYLIGHT
END:VTIMEZONE
END:VCALENDAR