BEGIN:VCALENDAR
VERSION:2.0
PRODID:-//wp-events-plugin.com//7.0.4//EN
TZID:America/Toronto
X-WR-TIMEZONE:America/Toronto
BEGIN:VEVENT
UID:2529@torontogothevents.com
DTSTART;TZID=America/Toronto:20260531T140000
DTEND;TZID=America/Toronto:20260531T170000
DTSTAMP:20260421T150628Z
URL:https://www.torontogothevents.com/events/coven-coffeehaus/
SUMMARY:Coven Coffeehaus
DESCRIPTION:Join us for a Sunday afternoon of (boozy) coffee and witchy vib
 es with tarot readings\, bellydance\, vendors\, and tunes by DJ Detra.\n\n
 cost: free\n\nmore info: Facebook
ATTACH;FMTTYPE=image/jpeg:https://www.torontogothevents.com/wp-content/upl
 oads/2026/04/20260531_covencoffeehaus.jpg
CATEGORIES:DJ Nights,Markets,Social Events
LOCATION:Swan Dive\, 1631 Dundas St. W.\, Toronto\, ON\, Canada
X-APPLE-STRUCTURED-LOCATION;VALUE=URI;X-ADDRESS=1631 Dundas St. W.\, Toront
 o\, ON\, Canada;X-APPLE-RADIUS=100;X-TITLE=Swan Dive:geo:0,0
END:VEVENT
BEGIN:VTIMEZONE
TZID:America/Toronto
X-LIC-LOCATION:America/Toronto
BEGIN:DAYLIGHT
DTSTART:20260308T030000
TZOFFSETFROM:-0500
TZOFFSETTO:-0400
TZNAME:EDT
END:DAYLIGHT
END:VTIMEZONE
END:VCALENDAR