BEGIN:VCALENDAR
VERSION:2.0
PRODID:-//wp-events-plugin.com//7.0.4//EN
TZID:America/Toronto
X-WR-TIMEZONE:America/Toronto
BEGIN:VEVENT
UID:2540@torontogothevents.com
DTSTART;TZID=America/Toronto:20260425T220000
DTEND;TZID=America/Toronto:20260426T030000
DTSTAMP:20260421T200921Z
URL:https://www.torontogothevents.com/events/das-mortuary-5/
SUMMARY:Das Mortuary
DESCRIPTION:Welcome dark souls to DAS MORTUARY\, a cybergoth dungeon where 
 Industrial\, EBM &amp\; Goth beats command your corpse.\n\nFeaturing resid
 ent DJ KASEY RIOT and guest DJ VON DARQUE\nplaying Industrial / EBM / Aggr
 otech / Dark Wave / Techno\n\ncost: $13.54 at Eventbrite - $15 at the door
 \n\nmore info: Instagram
ATTACH;FMTTYPE=image/jpeg:https://www.torontogothevents.com/wp-content/upl
 oads/2026/04/20260425_dasmortuary.jpg
CATEGORIES:DJ Nights
LOCATION:Catacombs Cabaret\, 474 Queen St. W. (rear entrance)\, Toronto\, O
 N\, Canada
X-APPLE-STRUCTURED-LOCATION;VALUE=URI;X-ADDRESS=474 Queen St. W. (rear entr
 ance)\, Toronto\, ON\, Canada;X-APPLE-RADIUS=100;X-TITLE=Catacombs Cabaret
 :geo:0,0
END:VEVENT
BEGIN:VTIMEZONE
TZID:America/Toronto
X-LIC-LOCATION:America/Toronto
BEGIN:DAYLIGHT
DTSTART:20260308T030000
TZOFFSETFROM:-0500
TZOFFSETTO:-0400
TZNAME:EDT
END:DAYLIGHT
END:VTIMEZONE
END:VCALENDAR