BEGIN:VCALENDAR
VERSION:2.0
PRODID:-//wp-events-plugin.com//7.0.4//EN
TZID:America/Toronto
X-WR-TIMEZONE:America/Toronto
BEGIN:VEVENT
UID:172@torontogothevents.com
DTSTART;TZID=America/Toronto:20241215T120000
DTEND;TZID=America/Toronto:20241215T200000
DTSTAMP:20241212T144841Z
URL:https://www.torontogothevents.com/events/devilish-desires-oddity-horro
 r-expo-2024-12-15/
SUMMARY:Devilish Desires Oddity & Horror Expo
DESCRIPTION:Devilish Desires is back\, and just in time for the holidays! T
 his time we're doubling up\, and it's a TWO DAY market! Twice the opportun
 ity to shop with some of the country's coolest crafters and merchants. We'
 ve got live performers\, attractions\, a raffle\, a bar\, and of course\, 
 vendors!\n\ncost: $6.66 at Eventbrite - $5 at the door\n\nmore info: Faceb
 ook
ATTACH;FMTTYPE=image/jpeg:https://www.torontogothevents.com/wp-content/upl
 oads/2024/11/20241214_devilishdesires.jpg
CATEGORIES:Markets
LOCATION:Skull Store\, 333 Yonge St.\, Toronto\, ON\, Canada
X-APPLE-STRUCTURED-LOCATION;VALUE=URI;X-ADDRESS=333 Yonge St.\, Toronto\, O
 N\, Canada;X-APPLE-RADIUS=100;X-TITLE=Skull Store:geo:0,0
END:VEVENT
BEGIN:VTIMEZONE
TZID:America/Toronto
X-LIC-LOCATION:America/Toronto
BEGIN:STANDARD
DTSTART:20241103T010000
TZOFFSETFROM:-0400
TZOFFSETTO:-0500
TZNAME:EST
END:STANDARD
END:VTIMEZONE
END:VCALENDAR