BEGIN:VCALENDAR
VERSION:2.0
PRODID:-//wp-events-plugin.com//7.0.4//EN
TZID:America/Toronto
X-WR-TIMEZONE:America/Toronto
BEGIN:VEVENT
UID:2489@torontogothevents.com
DTSTART;TZID=America/Toronto:20260810T180000
DTEND;TZID=America/Toronto:20260810T230000
DTSTAMP:20260417T150743Z
URL:https://www.torontogothevents.com/events/dimmu-borgir-with-hypocrisy-h
 ulder/
SUMMARY:Dimmu Borgir with Hypocrisy & Hulder
DESCRIPTION:Norwegian black metal band DIMMU BORGIR brings the Grand Serpen
 t Rising 2026 tour to Toronto\, with support from HYPOCRISY &amp\; HULDER.
 \n\ncost: $84.50 and up at Ticketmaster\n\nmore info: Facebook
ATTACH;FMTTYPE=image/jpeg:https://www.torontogothevents.com/wp-content/upl
 oads/2026/04/20260810_dimmuborgir.jpg
CATEGORIES:Concerts
LOCATION:History\, 1663 Queen St. E.\, Toronto\, ON\, Canada
X-APPLE-STRUCTURED-LOCATION;VALUE=URI;X-ADDRESS=1663 Queen St. E.\, Toronto
 \, ON\, Canada;X-APPLE-RADIUS=100;X-TITLE=History:geo:0,0
END:VEVENT
BEGIN:VTIMEZONE
TZID:America/Toronto
X-LIC-LOCATION:America/Toronto
BEGIN:DAYLIGHT
DTSTART:20260308T030000
TZOFFSETFROM:-0500
TZOFFSETTO:-0400
TZNAME:EDT
END:DAYLIGHT
END:VTIMEZONE
END:VCALENDAR