BEGIN:VCALENDAR
VERSION:2.0
PRODID:-//wp-events-plugin.com//7.0.4//EN
TZID:America/Toronto
X-WR-TIMEZONE:America/Toronto
BEGIN:VEVENT
UID:2294@torontogothevents.com
DTSTART;TZID=America/Toronto:20260424T210000
DTEND;TZID=America/Toronto:20260425T023000
DTSTAMP:20260406T204351Z
URL:https://www.torontogothevents.com/events/ebm-party-vnv-nation-spotligh
 t/
SUMMARY:EBM Party - VNV Nation Spotlight
DESCRIPTION:DJ Lazarus presents\nEBM PARTY with VNV NATION Spotlight\n\nEBM
  PARTY brings you the best of Electronic Body Music\, Electro-Industrial\,
  and Futurepop.\n\ncost: $11.98 at Eventbrite - $10 at the door\n\nmore in
 fo: Facebook
ATTACH;FMTTYPE=image/jpeg:https://www.torontogothevents.com/wp-content/upl
 oads/2026/02/20260424_ebmparty_vnv.jpg
CATEGORIES:DJ Nights
LOCATION:Ground Control\, 1279 Queen St. W.\, Toronto\, ON\, Canada
X-APPLE-STRUCTURED-LOCATION;VALUE=URI;X-ADDRESS=1279 Queen St. W.\, Toronto
 \, ON\, Canada;X-APPLE-RADIUS=100;X-TITLE=Ground Control:geo:0,0
END:VEVENT
BEGIN:VTIMEZONE
TZID:America/Toronto
X-LIC-LOCATION:America/Toronto
BEGIN:DAYLIGHT
DTSTART:20260308T030000
TZOFFSETFROM:-0500
TZOFFSETTO:-0400
TZNAME:EDT
END:DAYLIGHT
END:VTIMEZONE
END:VCALENDAR