BEGIN:VCALENDAR
VERSION:2.0
PRODID:-//wp-events-plugin.com//7.0.4//EN
TZID:America/Toronto
X-WR-TIMEZONE:America/Toronto
BEGIN:VEVENT
UID:2313@torontogothevents.com
DTSTART;TZID=America/Toronto:20260520T190000
DTEND;TZID=America/Toronto:20260520T230000
DTSTAMP:20260227T214805Z
URL:https://www.torontogothevents.com/events/failure-with-all-under-heaven
 /
SUMMARY:Failure with All Under Heaven
DESCRIPTION:90s alt-rock survivors FAILURE bring their Location Lost tour t
 o Toronto\, with support from New Jersey shoegazers ALL UNDER HEAVEN.\n\nc
 ost: $47 at Ticketmaster\n\nmore info: Facebook
ATTACH;FMTTYPE=image/jpeg:https://www.torontogothevents.com/wp-content/upl
 oads/2026/02/20260520_failure.jpg
CATEGORIES:Concerts
LOCATION:The Opera House\, 735 Queen St. E.\, Toronto\, ON\, Canada
X-APPLE-STRUCTURED-LOCATION;VALUE=URI;X-ADDRESS=735 Queen St. E.\, Toronto\
 , ON\, Canada;X-APPLE-RADIUS=100;X-TITLE=The Opera House:geo:0,0
END:VEVENT
BEGIN:VTIMEZONE
TZID:America/Toronto
X-LIC-LOCATION:America/Toronto
BEGIN:DAYLIGHT
DTSTART:20260308T030000
TZOFFSETFROM:-0500
TZOFFSETTO:-0400
TZNAME:EDT
END:DAYLIGHT
END:VTIMEZONE
END:VCALENDAR