BEGIN:VCALENDAR
VERSION:2.0
PRODID:-//wp-events-plugin.com//7.0.4//EN
TZID:America/Toronto
X-WR-TIMEZONE:America/Toronto
BEGIN:VEVENT
UID:2525@torontogothevents.com
DTSTART;TZID=America/Toronto:20260808T210000
DTEND;TZID=America/Toronto:20260809T023000
DTSTAMP:20260420T195244Z
URL:https://www.torontogothevents.com/events/fetnoir-play-dance-party-back
 -to-school-theme/
SUMMARY:fetNOIR Play & Dance Party - Back to School Theme
DESCRIPTION:fetNOIR: Play &amp\; Dance Party - Back to School Theme\n\nYour
  semester of kink starts tonight with Sexy Students\, Naughty Nerds\, Lasc
 ivious Librarians\, Perverted Principals\, Titillating Teachers\, Unruly C
 heerleaders\, and Raunchy Jocks.\n\nHighlights include custom fetish equip
 ment\, dungeon play area with dungeon master\, photo booth zone with photo
 grapher\, go-go dancers\, $100 prize for the best themed outfit\, and ampl
 e dance space with a subversive dark dance soundtrack (electro\, ebm\, dar
 kwave\, techno\, house\, remix) by DJ LAZARUS.\n\ncost: $22.63 to $27.96 a
 dvance at Eventbrite - $35 at the door\n\nmore info: Facebook
ATTACH;FMTTYPE=image/jpeg:https://www.torontogothevents.com/wp-content/upl
 oads/2026/04/20260808_fetnoir_backtoschool.jpg
CATEGORIES:DJ Nights
LOCATION:Ground Control\, 1279 Queen St. W.\, Toronto\, ON\, Canada
X-APPLE-STRUCTURED-LOCATION;VALUE=URI;X-ADDRESS=1279 Queen St. W.\, Toronto
 \, ON\, Canada;X-APPLE-RADIUS=100;X-TITLE=Ground Control:geo:0,0
END:VEVENT
BEGIN:VTIMEZONE
TZID:America/Toronto
X-LIC-LOCATION:America/Toronto
BEGIN:DAYLIGHT
DTSTART:20260308T030000
TZOFFSETFROM:-0500
TZOFFSETTO:-0400
TZNAME:EDT
END:DAYLIGHT
END:VTIMEZONE
END:VCALENDAR