BEGIN:VCALENDAR
VERSION:2.0
PRODID:-//wp-events-plugin.com//7.0.4//EN
TZID:America/Toronto
X-WR-TIMEZONE:America/Toronto
BEGIN:VEVENT
UID:2501@torontogothevents.com
DTSTART;TZID=America/Toronto:20260623T190000
DTEND;TZID=America/Toronto:20260623T230000
DTSTAMP:20260414T213423Z
URL:https://www.torontogothevents.com/events/flawed-mangoes/
SUMMARY:Flawed Mangoes
DESCRIPTION:Boston shoegaze/post-rock artist FLAWED MANGOES brings The Kill
 switch Memories Tour to Toronto.\n\ncost: $41.14 at Ticketmaster\n\nmore i
 nfo: Facebook
ATTACH;FMTTYPE=image/jpeg:https://www.torontogothevents.com/wp-content/upl
 oads/2026/04/20260623_flawedmangoes.jpg
CATEGORIES:Concerts
LOCATION:The Garrison\, 1197 Dundas St. W.\, Toronto\, ON\, Canada
X-APPLE-STRUCTURED-LOCATION;VALUE=URI;X-ADDRESS=1197 Dundas St. W.\, Toront
 o\, ON\, Canada;X-APPLE-RADIUS=100;X-TITLE=The Garrison:geo:0,0
END:VEVENT
BEGIN:VTIMEZONE
TZID:America/Toronto
X-LIC-LOCATION:America/Toronto
BEGIN:DAYLIGHT
DTSTART:20260308T030000
TZOFFSETFROM:-0500
TZOFFSETTO:-0400
TZNAME:EDT
END:DAYLIGHT
END:VTIMEZONE
END:VCALENDAR