BEGIN:VCALENDAR
VERSION:2.0
PRODID:-//wp-events-plugin.com//7.0.4//EN
TZID:America/Toronto
X-WR-TIMEZONE:America/Toronto
BEGIN:VEVENT
UID:2475@torontogothevents.com
DTSTART;TZID=America/Toronto:20260823T180000
DTEND;TZID=America/Toronto:20260823T230000
DTSTAMP:20260408T140613Z
URL:https://www.torontogothevents.com/events/howard-jones-with-wang-chung-
 the-english-beat-modern-english/
SUMMARY:Howard Jones with Wang Chung\, The English Beat & Modern English
DESCRIPTION:80s icon HOWARD JONES and tourmates WANG CHUNG\, THE ENGLISH B
 EAT and MODERN ENGLISH bring the Things Can Only Get Better Tour to Toront
 o\, with all artists performing full-length sets.\n\ncost: $52.35 to $173.
 75 at Ticketmaster\n\nmore info: Live At The Bowl
ATTACH;FMTTYPE=image/jpeg:https://www.torontogothevents.com/wp-content/upl
 oads/2026/04/20260823_howardjones.jpg
CATEGORIES:Concerts
LOCATION:Sobeys Stadium\, 1 Shoreham Dr.\, Toronto\, ON\, Canada
X-APPLE-STRUCTURED-LOCATION;VALUE=URI;X-ADDRESS=1 Shoreham Dr.\, Toronto\, 
 ON\, Canada;X-APPLE-RADIUS=100;X-TITLE=Sobeys Stadium:geo:0,0
END:VEVENT
BEGIN:VTIMEZONE
TZID:America/Toronto
X-LIC-LOCATION:America/Toronto
BEGIN:DAYLIGHT
DTSTART:20260308T030000
TZOFFSETFROM:-0500
TZOFFSETTO:-0400
TZNAME:EDT
END:DAYLIGHT
END:VTIMEZONE
END:VCALENDAR