BEGIN:VCALENDAR
VERSION:2.0
PRODID:-//wp-events-plugin.com//7.0.4//EN
TZID:America/Toronto
X-WR-TIMEZONE:America/Toronto
BEGIN:VEVENT
UID:2497@torontogothevents.com
DTSTART;TZID=America/Toronto:20260808T180000
DTEND;TZID=America/Toronto:20260808T230000
DTSTAMP:20260414T204116Z
URL:https://www.torontogothevents.com/events/killswitch-engage-with-machin
 e-head-malevolence/
SUMMARY:Killswitch Engage with Machine Head & Malevolence
DESCRIPTION:Metalcore veterans KILLSWITCH ENGAGE bring their Canadian tour 
 to Toronto\, with support from MACHINE HEAD and MELEVOLENCE.\n\ncost: $80 
 to $100 at AdmitOne\n\nmore info: Inertia Entertainment
ATTACH;FMTTYPE=image/jpeg:https://www.torontogothevents.com/wp-content/upl
 oads/2026/04/20260808_killswitchengage.jpg
CATEGORIES:Concerts
LOCATION:Queen Elizabeth Theatre\, 190 Princes' Blvd.\, Toronto\, ON\, Cana
 da
X-APPLE-STRUCTURED-LOCATION;VALUE=URI;X-ADDRESS=190 Princes' Blvd.\, Toront
 o\, ON\, Canada;X-APPLE-RADIUS=100;X-TITLE=Queen Elizabeth Theatre:geo:0,0
END:VEVENT
BEGIN:VTIMEZONE
TZID:America/Toronto
X-LIC-LOCATION:America/Toronto
BEGIN:DAYLIGHT
DTSTART:20260308T030000
TZOFFSETFROM:-0500
TZOFFSETTO:-0400
TZNAME:EDT
END:DAYLIGHT
END:VTIMEZONE
END:VCALENDAR