BEGIN:VCALENDAR
VERSION:2.0
PRODID:-//wp-events-plugin.com//7.0.4//EN
TZID:America/Toronto
X-WR-TIMEZONE:America/Toronto
BEGIN:VEVENT
UID:2428@torontogothevents.com
DTSTART;TZID=America/Toronto:20260626T183000
DTEND;TZID=America/Toronto:20260626T230000
DTSTAMP:20260330T160124Z
URL:https://www.torontogothevents.com/events/kittie-with-kingdom-of-giants
 -gore/
SUMMARY:Kittie with Kingdom of Giants & Gore.
DESCRIPTION:Reunited Canadian metal band KITTIE comes to Toronto\, with sup
 port from KINGDOM OF GIANTS and GORE.\n\ncost: $59 to $84.50 at Ticketmast
 er\n\nmore info: Facebook
ATTACH;FMTTYPE=image/jpeg:https://www.torontogothevents.com/wp-content/upl
 oads/2026/03/20260626_kittie.jpg
CATEGORIES:Concerts
LOCATION:Danforth Music Hall\, 147 Danforth Ave.\, Toronto\, ON\, Canada
X-APPLE-STRUCTURED-LOCATION;VALUE=URI;X-ADDRESS=147 Danforth Ave.\, Toronto
 \, ON\, Canada;X-APPLE-RADIUS=100;X-TITLE=Danforth Music Hall:geo:0,0
END:VEVENT
BEGIN:VTIMEZONE
TZID:America/Toronto
X-LIC-LOCATION:America/Toronto
BEGIN:DAYLIGHT
DTSTART:20260308T030000
TZOFFSETFROM:-0500
TZOFFSETTO:-0400
TZNAME:EDT
END:DAYLIGHT
END:VTIMEZONE
END:VCALENDAR