BEGIN:VCALENDAR
VERSION:2.0
PRODID:-//wp-events-plugin.com//7.0.4//EN
TZID:America/Toronto
X-WR-TIMEZONE:America/Toronto
BEGIN:VEVENT
UID:2480@torontogothevents.com
DTSTART;TZID=America/Toronto:20260620T190000
DTEND;TZID=America/Toronto:20260620T230000
DTSTAMP:20260408T192002Z
URL:https://www.torontogothevents.com/events/lambrini-girls-with-big-girl/
SUMMARY:Lambrini Girls with Big Girl
DESCRIPTION:This show was rescheduled from April 28th due to injury. Ticket
 s purchased for the original date will be honoured for the new date.\n\nBr
 ighton UK feminist post-punk duo LAMBRINI GIRLS bring their North America 
 Spring 2026 tour to Toronto\, with support from BIG GIRL.\n\ncost: $49.06 
 at Ticketweb\n\nmore info: Facebook
ATTACH;FMTTYPE=image/jpeg:https://www.torontogothevents.com/wp-content/upl
 oads/2026/04/20260620_lambrinigirls.jpg
CATEGORIES:Concerts
LOCATION:The Concert Hall\, 888 Yonge St.\, Toronto\, ON\, Canada
X-APPLE-STRUCTURED-LOCATION;VALUE=URI;X-ADDRESS=888 Yonge St.\, Toronto\, O
 N\, Canada;X-APPLE-RADIUS=100;X-TITLE=The Concert Hall:geo:0,0
END:VEVENT
BEGIN:VTIMEZONE
TZID:America/Toronto
X-LIC-LOCATION:America/Toronto
BEGIN:DAYLIGHT
DTSTART:20260308T030000
TZOFFSETFROM:-0500
TZOFFSETTO:-0400
TZNAME:EDT
END:DAYLIGHT
END:VTIMEZONE
END:VCALENDAR