BEGIN:VCALENDAR
VERSION:2.0
PRODID:-//wp-events-plugin.com//7.0.4//EN
TZID:America/Toronto
X-WR-TIMEZONE:America/Toronto
BEGIN:VEVENT
UID:2539@torontogothevents.com
DTSTART;TZID=America/Toronto:20260726T160000
DTEND;TZID=America/Toronto:20260726T235900
DTSTAMP:20260421T155832Z
URL:https://www.torontogothevents.com/events/loveless-festival-2026-2/
SUMMARY:Loveless Festival 2026
DESCRIPTION:Loveless Collective presents LOVELESS FESTIVAL 2026\, a Toronto
  DIY Shoegaze Music Festival taking place at Monarch Tavern\, Sneaky Dee's
 \, and St. Stephen-in-the-Fields.\n\ncost: various prices at Eventbrite\n\
 nmore info: Loveless Collective\n\n&nbsp\;
ATTACH;FMTTYPE=image/jpeg:https://www.torontogothevents.com/wp-content/upl
 oads/2026/04/20260725_lovelessfestival.jpg
CATEGORIES:Concerts
LOCATION:various venues\, various locations\, Toronto\, ON\, Canada
X-APPLE-STRUCTURED-LOCATION;VALUE=URI;X-ADDRESS=various locations\, Toronto
 \, ON\, Canada;X-APPLE-RADIUS=100;X-TITLE=various venues:geo:0,0
END:VEVENT
BEGIN:VTIMEZONE
TZID:America/Toronto
X-LIC-LOCATION:America/Toronto
BEGIN:DAYLIGHT
DTSTART:20260308T030000
TZOFFSETFROM:-0500
TZOFFSETTO:-0400
TZNAME:EDT
END:DAYLIGHT
END:VTIMEZONE
END:VCALENDAR