BEGIN:VCALENDAR
VERSION:2.0
PRODID:-//wp-events-plugin.com//7.0.4//EN
TZID:America/Toronto
X-WR-TIMEZONE:America/Toronto
BEGIN:VEVENT
UID:2523@torontogothevents.com
DTSTART;TZID=America/Toronto:20260517T220000
DTEND;TZID=America/Toronto:20260518T023000
DTSTAMP:20260420T194558Z
URL:https://www.torontogothevents.com/events/may-long-weekend-all-request-
 video-dance-party/
SUMMARY:May Long Weekend All Request Video Dance Party
DESCRIPTION:Living On Video + DJ Lazarus presents\nMAY LONG WEEKEND ALL REQ
 UEST VIDEO DANCE PARTY\n\nAlternative / 80s &amp\; 90s / Post-Punk / Britp
 op / Goth / Electronica / New Wave / Synthpop / Indie / Darkwave / Rock / 
 Dance / Requests\n\nAny alternative genre is game for your requests. Can b
 e classic or new. This is great opportunity to hear a song you don't norma
 lly hear in a club.\n\ncost: free at Eventbrite and the door\n\nmore info:
  Facebook
ATTACH;FMTTYPE=image/jpeg:https://www.torontogothevents.com/wp-content/upl
 oads/2026/04/20260517_allrequestdanceparty.jpg
CATEGORIES:DJ Nights
LOCATION:Ground Control\, 1279 Queen St. W.\, Toronto\, ON\, Canada
X-APPLE-STRUCTURED-LOCATION;VALUE=URI;X-ADDRESS=1279 Queen St. W.\, Toronto
 \, ON\, Canada;X-APPLE-RADIUS=100;X-TITLE=Ground Control:geo:0,0
END:VEVENT
BEGIN:VTIMEZONE
TZID:America/Toronto
X-LIC-LOCATION:America/Toronto
BEGIN:DAYLIGHT
DTSTART:20260308T030000
TZOFFSETFROM:-0500
TZOFFSETTO:-0400
TZNAME:EDT
END:DAYLIGHT
END:VTIMEZONE
END:VCALENDAR