BEGIN:VCALENDAR
VERSION:2.0
PRODID:-//wp-events-plugin.com//7.0.4//EN
TZID:America/Toronto
X-WR-TIMEZONE:America/Toronto
BEGIN:VEVENT
UID:2484@torontogothevents.com
DTSTART;TZID=America/Toronto:20260514T200000
DTEND;TZID=America/Toronto:20260514T233000
DTSTAMP:20260409T150956Z
URL:https://www.torontogothevents.com/events/meghan-dowlen-with-absolute-t
 reat-essie-watts/
SUMMARY:Meghan Dowlen with Absolute Treat & Essie Watts
DESCRIPTION:Multi-instrumentalist\, songwriter\, and performer MEGHAN DOWLE
 N comes to Toronto on a tour behind her new wave &amp\; dance pop influenc
 ed album Dizzy Spell\, with support from ABSOLUTE TREAT and ESSIE WATTS.\n
 \ncost: $22.70 at DICE\n\nmore info: Facebook
ATTACH;FMTTYPE=image/jpeg:https://www.torontogothevents.com/wp-content/upl
 oads/2026/04/20260514_meghandowlen.jpg
CATEGORIES:Concerts
LOCATION:The Garrison\, 1197 Dundas St. W.\, Toronto\, ON\, Canada
X-APPLE-STRUCTURED-LOCATION;VALUE=URI;X-ADDRESS=1197 Dundas St. W.\, Toront
 o\, ON\, Canada;X-APPLE-RADIUS=100;X-TITLE=The Garrison:geo:0,0
END:VEVENT
BEGIN:VTIMEZONE
TZID:America/Toronto
X-LIC-LOCATION:America/Toronto
BEGIN:DAYLIGHT
DTSTART:20260308T030000
TZOFFSETFROM:-0500
TZOFFSETTO:-0400
TZNAME:EDT
END:DAYLIGHT
END:VTIMEZONE
END:VCALENDAR