BEGIN:VCALENDAR
VERSION:2.0
PRODID:-//wp-events-plugin.com//7.0.4//EN
TZID:America/Toronto
X-WR-TIMEZONE:America/Toronto
BEGIN:VEVENT
UID:1786@torontogothevents.com
DTSTART;TZID=America/Toronto:20260722T183000
DTEND;TZID=America/Toronto:20260722T230000
DTSTAMP:20251120T221122Z
URL:https://www.torontogothevents.com/events/motley-crue-with-tesla-extrem
 e/
SUMMARY:Mötley Crüe with Tesla & Extreme
DESCRIPTION:80s hair metal survivors MÖTLEY CRÜE bring the Return to The 
 Carnival of Sins tour to Toronto\, with tourmates TESLA and EXTREME.\n\nco
 st: various prices at Ticketmaster\n\nmore info: Facebook
ATTACH;FMTTYPE=image/jpeg:https://www.torontogothevents.com/wp-content/upl
 oads/2025/11/20260722_motleycrue.jpg
CATEGORIES:Concerts
LOCATION:RBC Amphitheatre\, 909 Lakeshore Blvd. W.\, Toronto\, ON\, Canada
X-APPLE-STRUCTURED-LOCATION;VALUE=URI;X-ADDRESS=909 Lakeshore Blvd. W.\, To
 ronto\, ON\, Canada;X-APPLE-RADIUS=100;X-TITLE=RBC Amphitheatre:geo:0,0
END:VEVENT
BEGIN:VTIMEZONE
TZID:America/Toronto
X-LIC-LOCATION:America/Toronto
BEGIN:DAYLIGHT
DTSTART:20260308T030000
TZOFFSETFROM:-0500
TZOFFSETTO:-0400
TZNAME:EDT
END:DAYLIGHT
END:VTIMEZONE
END:VCALENDAR