BEGIN:VCALENDAR
VERSION:2.0
PRODID:-//wp-events-plugin.com//7.0.4//EN
TZID:America/Toronto
X-WR-TIMEZONE:America/Toronto
BEGIN:VEVENT
UID:163@torontogothevents.com
DTSTART;TZID=America/Toronto:20250822T180000
DTEND;TZID=America/Toronto:20250822T230000
DTSTAMP:20250807T183725Z
URL:https://www.torontogothevents.com/events/my-chemical-romance-with-pixi
 es/
SUMMARY:My Chemical Romance with Pixies
DESCRIPTION:Welcome to the Black Parade! Join MY CHEMICAL ROMANCE as they p
 lay The Black Parade in its entirety\, with special guests PIXIES.\n\ncost
 : $122 and up at Ticketmaster\n\nmore info: Facebook
ATTACH;FMTTYPE=image/jpeg:https://www.torontogothevents.com/wp-content/upl
 oads/2024/11/20250822_mcr.jpg
CATEGORIES:Concerts
LOCATION:Rogers Centre\, 1 Blue Jays Way\, Toronto\, ON\, Canada
X-APPLE-STRUCTURED-LOCATION;VALUE=URI;X-ADDRESS=1 Blue Jays Way\, Toronto\,
  ON\, Canada;X-APPLE-RADIUS=100;X-TITLE=Rogers Centre:geo:0,0
END:VEVENT
BEGIN:VTIMEZONE
TZID:America/Toronto
X-LIC-LOCATION:America/Toronto
BEGIN:DAYLIGHT
DTSTART:20250309T030000
TZOFFSETFROM:-0500
TZOFFSETTO:-0400
TZNAME:EDT
END:DAYLIGHT
END:VTIMEZONE
END:VCALENDAR