BEGIN:VCALENDAR
VERSION:2.0
PRODID:-//wp-events-plugin.com//7.0.4//EN
TZID:America/Toronto
X-WR-TIMEZONE:America/Toronto
BEGIN:VEVENT
UID:2535@torontogothevents.com
DTSTART;TZID=America/Toronto:20260509T160000
DTEND;TZID=America/Toronto:20260509T173000
DTSTAMP:20260421T154051Z
URL:https://www.torontogothevents.com/events/nash-the-slash-rises-again-2/
SUMMARY:Nash The Slash Rises Again!
DESCRIPTION:Nash the Slash Rises Again! uncovers the origin story of the si
 nister\, masked Canadian electronic music innovator who took his name from
  the killer butler in a 1927 Laurel and Hardy silent film. A classically t
 rained violinist and multi-instrumentalist\, Nash fused prog rock\, punk\,
  classic rock\, and psychedelia with techno and industrial - long before t
 hose genres even had names. The new film unwinds the bandages of a ground-
 breaking\, mad musical scientist whose career decomposed before the world 
 caught up.\n\ncost: $16.95 at Hot Docs\n\nmore info: Hot Docs
ATTACH;FMTTYPE=image/jpeg:https://www.torontogothevents.com/wp-content/upl
 oads/2026/02/20260313_nashtheslashrisesagain.jpg
CATEGORIES:Film Screenings
LOCATION:Hot Docs Cinema\, 506 Bloor St. W.\, Toronto\, ON\, Canada
X-APPLE-STRUCTURED-LOCATION;VALUE=URI;X-ADDRESS=506 Bloor St. W.\, Toronto\
 , ON\, Canada;X-APPLE-RADIUS=100;X-TITLE=Hot Docs Cinema:geo:0,0
END:VEVENT
BEGIN:VTIMEZONE
TZID:America/Toronto
X-LIC-LOCATION:America/Toronto
BEGIN:DAYLIGHT
DTSTART:20260308T030000
TZOFFSETFROM:-0500
TZOFFSETTO:-0400
TZNAME:EDT
END:DAYLIGHT
END:VTIMEZONE
END:VCALENDAR