BEGIN:VCALENDAR
VERSION:2.0
PRODID:-//wp-events-plugin.com//7.0.4//EN
TZID:America/Toronto
X-WR-TIMEZONE:America/Toronto
BEGIN:VEVENT
UID:2536@torontogothevents.com
DTSTART;TZID=America/Toronto:20260501T190000
DTEND;TZID=America/Toronto:20260501T235900
DTSTAMP:20260421T154834Z
URL:https://www.torontogothevents.com/events/outer-space-2026/
SUMMARY:Outer Space 2026
DESCRIPTION:PROJECT NOWHERE PRESENTS\nOUTER SPACE 2026\n\nA brand new weeke
 nder to kick off spring with a microdose of all the things you love about 
 Project Nowhere with a two-floor extravaganza featuring 20 musical &amp\; 
 visual artists at Lee's Palace &amp\; Dance Cave.\n\ncost: various prices 
 at DICE\n\nmore info: Project Nowhere
ATTACH;FMTTYPE=image/jpeg:https://www.torontogothevents.com/wp-content/upl
 oads/2026/04/20260501_outerspace.jpg
CATEGORIES:Concerts
LOCATION:Lee's Palace\, 529 Bloor St. W.\, Toronto\, ON\, Canada
X-APPLE-STRUCTURED-LOCATION;VALUE=URI;X-ADDRESS=529 Bloor St. W.\, Toronto\
 , ON\, Canada;X-APPLE-RADIUS=100;X-TITLE=Lee's Palace:geo:0,0
END:VEVENT
BEGIN:VTIMEZONE
TZID:America/Toronto
X-LIC-LOCATION:America/Toronto
BEGIN:DAYLIGHT
DTSTART:20260308T030000
TZOFFSETFROM:-0500
TZOFFSETTO:-0400
TZNAME:EDT
END:DAYLIGHT
END:VTIMEZONE
END:VCALENDAR