BEGIN:VCALENDAR
VERSION:2.0
PRODID:-//wp-events-plugin.com//7.0.4//EN
TZID:America/Toronto
X-WR-TIMEZONE:America/Toronto
BEGIN:VEVENT
UID:2515@torontogothevents.com
DTSTART;TZID=America/Toronto:20260530T210000
DTEND;TZID=America/Toronto:20260531T023000
DTSTAMP:20260420T191921Z
URL:https://www.torontogothevents.com/events/panic-80s-90s-video-dance-par
 ty-echo-the-bunnymen-spotlight/
SUMMARY:Panic 80s & 90s Video Dance Party - Echo & The Bunnymen Spotlight
DESCRIPTION:Living On Video + DJ Lazarus presents\nPANIC 80s/90s Video Danc
 e Party w/ ECHO &amp\; THE BUNNYMEN Spotlight\n\nPANIC is a brilliant even
 ing of new wave\, post-punk\, classic alternatives\, synth pioneers\, brit
 pop\, shoegaze\, madchester\, new romantic\, classic industrial\, ska\, an
 d more.\n\ncost: $11.98 at Eventbrite - $15 at the door\n\nmore info: Face
 book
ATTACH;FMTTYPE=image/jpeg:https://www.torontogothevents.com/wp-content/upl
 oads/2026/04/20260530_panic_echo.jpg
CATEGORIES:DJ Nights
LOCATION:Ground Control\, 1279 Queen St. W.\, Toronto\, ON\, Canada
X-APPLE-STRUCTURED-LOCATION;VALUE=URI;X-ADDRESS=1279 Queen St. W.\, Toronto
 \, ON\, Canada;X-APPLE-RADIUS=100;X-TITLE=Ground Control:geo:0,0
END:VEVENT
BEGIN:VTIMEZONE
TZID:America/Toronto
X-LIC-LOCATION:America/Toronto
BEGIN:DAYLIGHT
DTSTART:20260308T030000
TZOFFSETFROM:-0500
TZOFFSETTO:-0400
TZNAME:EDT
END:DAYLIGHT
END:VTIMEZONE
END:VCALENDAR