BEGIN:VCALENDAR
VERSION:2.0
PRODID:-//wp-events-plugin.com//7.0.4//EN
TZID:America/Toronto
X-WR-TIMEZONE:America/Toronto
BEGIN:VEVENT
UID:2508@torontogothevents.com
DTSTART;TZID=America/Toronto:20260521T223000
DTEND;TZID=America/Toronto:20260522T020000
DTSTAMP:20260420T152448Z
URL:https://www.torontogothevents.com/events/queer-emo-nite-t-o-v-24/
SUMMARY:Queer Emo Nite T.O. v.24
DESCRIPTION:Queer Emo Nite T.O. is back for their second anniversary celebr
 ation of Queer Angst and Joy! Featuring your favorite emo tunes and queer 
 anthems from DJ MIRAKCIS\, plus drag performances by MS. NOOKIE GALORE.\n\
 ncost: $12.50 to $15 at Eventbrite - $15 at the door\n\nmore info: Instagr
 am
ATTACH;FMTTYPE=image/jpeg:https://www.torontogothevents.com/wp-content/upl
 oads/2026/04/20260521_queeremonite.jpg
CATEGORIES:DJ Nights,Theatre &amp; Performance
LOCATION:Drom Taberna\, 458 Queen St. W.\, Toronto\, ON\, Canada
X-APPLE-STRUCTURED-LOCATION;VALUE=URI;X-ADDRESS=458 Queen St. W.\, Toronto\
 , ON\, Canada;X-APPLE-RADIUS=100;X-TITLE=Drom Taberna:geo:0,0
END:VEVENT
BEGIN:VTIMEZONE
TZID:America/Toronto
X-LIC-LOCATION:America/Toronto
BEGIN:DAYLIGHT
DTSTART:20260308T030000
TZOFFSETFROM:-0500
TZOFFSETTO:-0400
TZNAME:EDT
END:DAYLIGHT
END:VTIMEZONE
END:VCALENDAR