BEGIN:VCALENDAR
VERSION:2.0
PRODID:-//wp-events-plugin.com//7.0.4//EN
TZID:America/Toronto
X-WR-TIMEZONE:America/Toronto
BEGIN:VEVENT
UID:2502@torontogothevents.com
DTSTART;TZID=America/Toronto:20260612T200000
DTEND;TZID=America/Toronto:20260612T235900
DTSTAMP:20260415T180215Z
URL:https://www.torontogothevents.com/events/real-lies-with-gods-mom-olind
 a/
SUMMARY:Real Lies with God's Mom & Olinda
DESCRIPTION:UK electronic duo REAL LIES make their debut North American app
 earance in Toronto\, with support from GOD'S MOM and OLINDA.\n\ncost: $27.
 82 at DICE\n\nmore info: Facebook
ATTACH;FMTTYPE=image/jpeg:https://www.torontogothevents.com/wp-content/upl
 oads/2026/04/20260612_reallies.jpg
CATEGORIES:Concerts
LOCATION:Standard Time\, 165 Geary Ave.\, Toronto\, ON\, Canada
X-APPLE-STRUCTURED-LOCATION;VALUE=URI;X-ADDRESS=165 Geary Ave.\, Toronto\, 
 ON\, Canada;X-APPLE-RADIUS=100;X-TITLE=Standard Time:geo:0,0
END:VEVENT
BEGIN:VTIMEZONE
TZID:America/Toronto
X-LIC-LOCATION:America/Toronto
BEGIN:DAYLIGHT
DTSTART:20260308T030000
TZOFFSETFROM:-0500
TZOFFSETTO:-0400
TZNAME:EDT
END:DAYLIGHT
END:VTIMEZONE
END:VCALENDAR