BEGIN:VCALENDAR
VERSION:2.0
PRODID:-//wp-events-plugin.com//7.0.4//EN
TZID:America/Toronto
X-WR-TIMEZONE:America/Toronto
BEGIN:VEVENT
UID:2309@torontogothevents.com
DTSTART;TZID=America/Toronto:20260517T210000
DTEND;TZID=America/Toronto:20260518T020000
DTSTAMP:20260408T150339Z
URL:https://www.torontogothevents.com/events/saigon-sundays-all-retro-uk-h
 its-longwknd/
SUMMARY:Saigon Sundays All Retro UK Hits LongWknd
DESCRIPTION:All Retro UK Hits May Two-Four LongWknd\n80's &amp\; 90's &amp\
 ; 2000's britpop • synthpop • post-punk • new wave • indie • alt
 ernative hits\nwith DJs Paul Dhingra &amp\; Dwight Hybrid\n\nBangers to ma
 sh the dancefloor from The Smiths\, Depeche Mode\, New Order\, Stone Roses
 \, Blur\, Pulp\, Joy Division\, The Cure\, Human League\, Pet Shop Boys\, 
 Underworld\, The Prodigy\, The Specials\, Madness\, The Clash\, The Killer
 s\, Franz Ferdinand\, Daft Punk and tons more.\n\ncost: $10 at the door\n\
 nmore info: Facebook
ATTACH;FMTTYPE=image/jpeg:https://www.torontogothevents.com/wp-content/upl
 oads/2026/02/20260517_saigonsundays.jpg
CATEGORIES:DJ Nights
LOCATION:The Piston\, 937 Bloor St. W.\, Toronto\, ON\, Canada
X-APPLE-STRUCTURED-LOCATION;VALUE=URI;X-ADDRESS=937 Bloor St. W.\, Toronto\
 , ON\, Canada;X-APPLE-RADIUS=100;X-TITLE=The Piston:geo:0,0
END:VEVENT
BEGIN:VTIMEZONE
TZID:America/Toronto
X-LIC-LOCATION:America/Toronto
BEGIN:DAYLIGHT
DTSTART:20260308T030000
TZOFFSETFROM:-0500
TZOFFSETTO:-0400
TZNAME:EDT
END:DAYLIGHT
END:VTIMEZONE
END:VCALENDAR