BEGIN:VCALENDAR
VERSION:2.0
PRODID:-//wp-events-plugin.com//7.0.4//EN
TZID:America/Toronto
X-WR-TIMEZONE:America/Toronto
BEGIN:VEVENT
UID:2512@torontogothevents.com
DTSTART;TZID=America/Toronto:20260620T210000
DTEND;TZID=America/Toronto:20260621T023000
DTSTAMP:20260420T190530Z
URL:https://www.torontogothevents.com/events/spellbound-video-dance-party-
 clan-of-xymox-spotlight/
SUMMARY:Spellbound Video Dance Party - Clan of Xymox Spotlight
DESCRIPTION:Living On Video + DJ Lazarus presents\nSPELLBOUND Video Dance P
 arty\nGOTH / DARKWAVE / POST-PUNK / INDUSTRIAL with CLAN OF XYMOX Spotligh
 t\n\nSPELLBOUND is a goth multimedia dance experience with classic and fre
 sh dark music videos\, plus a Goth A.F. Contest with a $100 prize + custom
  trophy to the most gothed up patron.\n\ncost: $11.98 at Eventbrite (comin
 g soon) – $15 at the door\n\nmore info: Facebook
ATTACH;FMTTYPE=image/jpeg:https://www.torontogothevents.com/wp-content/upl
 oads/2026/04/20260620_spellbound_xymox.jpg
CATEGORIES:DJ Nights
LOCATION:Ground Control\, 1279 Queen St. W.\, Toronto\, ON\, Canada
X-APPLE-STRUCTURED-LOCATION;VALUE=URI;X-ADDRESS=1279 Queen St. W.\, Toronto
 \, ON\, Canada;X-APPLE-RADIUS=100;X-TITLE=Ground Control:geo:0,0
END:VEVENT
BEGIN:VTIMEZONE
TZID:America/Toronto
X-LIC-LOCATION:America/Toronto
BEGIN:DAYLIGHT
DTSTART:20260308T030000
TZOFFSETFROM:-0500
TZOFFSETTO:-0400
TZNAME:EDT
END:DAYLIGHT
END:VTIMEZONE
END:VCALENDAR