BEGIN:VCALENDAR
VERSION:2.0
PRODID:-//wp-events-plugin.com//7.0.4//EN
TZID:America/Toronto
X-WR-TIMEZONE:America/Toronto
BEGIN:VEVENT
UID:2511@torontogothevents.com
DTSTART;TZID=America/Toronto:20260516T200000
DTEND;TZID=America/Toronto:20260517T023000
DTSTAMP:20260420T190600Z
URL:https://www.torontogothevents.com/events/spellbound-video-dance-party-
 gary-numan-spotlight-2/
SUMMARY:Spellbound Video Dance Party - Gary Numan Spotlight & Modele Live P
 erformance
DESCRIPTION:Living On Video + DJ Lazarus presents\nSPELLBOUND Video Dance P
 arty\nGOTH / DARKWAVE / POST-PUNK / INDUSTRIAL with GARY NUMAN Spotlight +
  MODELE Live Performance\n\nSPELLBOUND is a goth multimedia dance experien
 ce with classic and fresh dark music videos\, plus a Goth A.F. Contest wit
 h a $100 prize + custom trophy to the most gothed up patron.\n\nDoors at 8
 pm - post-punk band MODELE live at 9pm - dance party with DJ LAZARUS at 10
 pm\n\ncost: $11.98 at Eventbrite – $15 at the door\n\nmore info: Faceboo
 k
ATTACH;FMTTYPE=image/jpeg:https://www.torontogothevents.com/wp-content/upl
 oads/2026/04/20260516_spellbound.jpg
CATEGORIES:DJ Nights
LOCATION:Ground Control\, 1279 Queen St. W.\, Toronto\, ON\, Canada
X-APPLE-STRUCTURED-LOCATION;VALUE=URI;X-ADDRESS=1279 Queen St. W.\, Toronto
 \, ON\, Canada;X-APPLE-RADIUS=100;X-TITLE=Ground Control:geo:0,0
END:VEVENT
BEGIN:VTIMEZONE
TZID:America/Toronto
X-LIC-LOCATION:America/Toronto
BEGIN:DAYLIGHT
DTSTART:20260308T030000
TZOFFSETFROM:-0500
TZOFFSETTO:-0400
TZNAME:EDT
END:DAYLIGHT
END:VTIMEZONE
END:VCALENDAR