BEGIN:VCALENDAR
VERSION:2.0
PRODID:-//wp-events-plugin.com//7.0.4//EN
TZID:America/Toronto
X-WR-TIMEZONE:America/Toronto
BEGIN:VEVENT
UID:2308@torontogothevents.com
DTSTART;TZID=America/Toronto:20260627T120000
DTEND;TZID=America/Toronto:20260627T190000
DTSTAMP:20260227T212413Z
URL:https://www.torontogothevents.com/events/summer-shade-community-market
 /
SUMMARY:Summer & Shade Community Market
DESCRIPTION:Summer &amp\; Shade is a hyper-local market held in the heart o
 f Islington Village. We provide a dedicated space for entrepreneurial grow
 th and artistic expression\, with a specific focus on supporting low-incom
 e creators. Our mission is to foster self-sufficiency and self-reliance by
  lowering the traditional barriers to entry for local talent.\n\nWe specif
 ically advocate for Toronto Community Housing (TCHC) residents\, who often
  face systemic obstacles such as selection biases and prohibitive particip
 ation fees. By creating an accessible and inclusive marketplace\, Summer &
 amp\; Shade ensures that the vibrant creative energy of our local communit
 y has the platform it needs to thrive.\n\ncost: free\n\nmore info: Moonsha
 dow Events
ATTACH;FMTTYPE=image/jpeg:https://www.torontogothevents.com/wp-content/upl
 oads/2026/02/20260627_summerandshade.jpg
CATEGORIES:Markets
LOCATION:Dundas Mabelle\, 5005 Dundas Ave. W.\, Etobicoke\, ON\, Canada
X-APPLE-STRUCTURED-LOCATION;VALUE=URI;X-ADDRESS=5005 Dundas Ave. W.\, Etobi
 coke\, ON\, Canada;X-APPLE-RADIUS=100;X-TITLE=Dundas Mabelle:geo:0,0
END:VEVENT
BEGIN:VTIMEZONE
TZID:America/Toronto
X-LIC-LOCATION:America/Toronto
BEGIN:DAYLIGHT
DTSTART:20260308T030000
TZOFFSETFROM:-0500
TZOFFSETTO:-0400
TZNAME:EDT
END:DAYLIGHT
END:VTIMEZONE
END:VCALENDAR