BEGIN:VCALENDAR
VERSION:2.0
PRODID:-//wp-events-plugin.com//7.0.4//EN
TZID:America/Toronto
X-WR-TIMEZONE:America/Toronto
BEGIN:VEVENT
UID:2530@torontogothevents.com
DTSTART;TZID=America/Toronto:20260505T200000
DTEND;TZID=America/Toronto:20260505T235900
DTSTAMP:20260421T152703Z
URL:https://www.torontogothevents.com/events/the-velour-underground-3/
SUMMARY:The Velour Underground
DESCRIPTION:Lou Reed championed Toronto’s Flowers Of Hell\, so this May t
 hey’ll be performing two sets of Velvet Underground songs at the Baby G 
 every Tuesday as THE VELOUR UNDERGROUND. Expect fan favourites and a chang
 ing array of deep cuts each week\, plus a light show. With the similar cap
 acities of the Baby G and NYC’s Max’s Kansas City where the Velvets di
 d their 1970 residency\, this is as close as you can get to the real exper
 ience! Come take a walk on the wild side!\n\ncost: free at DICE\n\nmore in
 fo: Facebook
ATTACH;FMTTYPE=image/jpeg:https://www.torontogothevents.com/wp-content/upl
 oads/2025/10/20251022_velourunderground.jpg
CATEGORIES:Concerts
LOCATION:The Baby G\, 1608 Dundas St. W.\, Toronto\, ON\, Canada
X-APPLE-STRUCTURED-LOCATION;VALUE=URI;X-ADDRESS=1608 Dundas St. W.\, Toront
 o\, ON\, Canada;X-APPLE-RADIUS=100;X-TITLE=The Baby G:geo:0,0
END:VEVENT
BEGIN:VTIMEZONE
TZID:America/Toronto
X-LIC-LOCATION:America/Toronto
BEGIN:DAYLIGHT
DTSTART:20260308T030000
TZOFFSETFROM:-0500
TZOFFSETTO:-0400
TZNAME:EDT
END:DAYLIGHT
END:VTIMEZONE
END:VCALENDAR