BEGIN:VCALENDAR
VERSION:2.0
PRODID:-//wp-events-plugin.com//7.0.4//EN
TZID:America/Toronto
X-WR-TIMEZONE:America/Toronto
BEGIN:VEVENT
UID:2509@torontogothevents.com
DTSTART;TZID=America/Toronto:20260425T210000
DTEND;TZID=America/Toronto:20260426T023000
DTSTAMP:20260420T153810Z
URL:https://www.torontogothevents.com/events/tokyo-nocturne-kote-kei-x-old
 -school-revival-2/
SUMMARY:Tokyo Nocturne: Kote Kei x Old School Revival
DESCRIPTION:Tokyo Nocturne is a video dance party focusing on Visual Kei\, 
 J-Rock\, and J-Goth music\, bringing together people interested in alterna
 tive Japanese subcultures.\n\nThe theme for this month is Old School/Kote 
 Kei\, so there will be more of an emphasis on playing older visual kei and
  all the classics you love. Attendees are encouraged dress up in anything 
 inspired by your favorite visual kei bands of the 90s/early 00s.\n\ncost: 
 $10/PWYC at the door\n\nmore info: Instagram
ATTACH;FMTTYPE=image/jpeg:https://www.torontogothevents.com/wp-content/upl
 oads/2026/04/20260424_tokyonocturne.jpg
CATEGORIES:DJ Nights
LOCATION:The Wych\, 1150 Davenport Rd.\, Toronto\, ON\, Canada
X-APPLE-STRUCTURED-LOCATION;VALUE=URI;X-ADDRESS=1150 Davenport Rd.\, Toront
 o\, ON\, Canada;X-APPLE-RADIUS=100;X-TITLE=The Wych:geo:0,0
END:VEVENT
BEGIN:VTIMEZONE
TZID:America/Toronto
X-LIC-LOCATION:America/Toronto
BEGIN:DAYLIGHT
DTSTART:20260308T030000
TZOFFSETFROM:-0500
TZOFFSETTO:-0400
TZNAME:EDT
END:DAYLIGHT
END:VTIMEZONE
END:VCALENDAR