BEGIN:VCALENDAR
VERSION:2.0
PRODID:-//wp-events-plugin.com//7.0.4//EN
TZID:America/Toronto
X-WR-TIMEZONE:America/Toronto
BEGIN:VEVENT
UID:2321@torontogothevents.com
DTSTART;TZID=America/Toronto:20260503T190000
DTEND;TZID=America/Toronto:20260503T230000
DTSTAMP:20260421T171430Z
URL:https://www.torontogothevents.com/events/tribal-gaze/
SUMMARY:Tribal Gaze with Gutter Girl & Sunnycide
DESCRIPTION:Texas death metal group TRIBAL GAZE comes to Toronto behind the
 ir 2025 album Inveighing Brilliance.\, with local support from GUTTER GIRL
  and SUNNYCIDE.\n\ncost: $30.14 at DICE\n\nmore info: Facebook
ATTACH;FMTTYPE=image/jpeg:https://www.torontogothevents.com/wp-content/upl
 oads/2026/03/20260503_tribalgaze.jpg
CATEGORIES:Concerts
LOCATION:The Baby G\, 1608 Dundas St. W.\, Toronto\, ON\, Canada
X-APPLE-STRUCTURED-LOCATION;VALUE=URI;X-ADDRESS=1608 Dundas St. W.\, Toront
 o\, ON\, Canada;X-APPLE-RADIUS=100;X-TITLE=The Baby G:geo:0,0
END:VEVENT
BEGIN:VTIMEZONE
TZID:America/Toronto
X-LIC-LOCATION:America/Toronto
BEGIN:DAYLIGHT
DTSTART:20260308T030000
TZOFFSETFROM:-0500
TZOFFSETTO:-0400
TZNAME:EDT
END:DAYLIGHT
END:VTIMEZONE
END:VCALENDAR