BEGIN:VCALENDAR
VERSION:2.0
PRODID:-//wp-events-plugin.com//7.0.4//EN
TZID:America/Toronto
X-WR-TIMEZONE:America/Toronto
BEGIN:VEVENT
UID:2542@torontogothevents.com
DTSTART;TZID=America/Toronto:20260425T120000
DTEND;TZID=America/Toronto:20260425T180000
DTSTAMP:20260422T195225Z
URL:https://www.torontogothevents.com/events/trnny-market-2/
SUMMARY:Tr*nny Market
DESCRIPTION:Toronto’s first all trans vendor market is back with 10+ vend
 ors &amp\; artists\, a cocktail bar\, and a mutual aid raffle supporting c
 ommunity members. Queer or str8\, cis or trans\, everyone is welcome to sh
 op with us.\n\ncost: free\n\nmore info: Instagram
ATTACH;FMTTYPE=image/jpeg:https://www.torontogothevents.com/wp-content/upl
 oads/2026/04/20260425_tr-nnymarket.jpg
CATEGORIES:Markets
LOCATION:Three Dollar Bill\, 1592 Queen St. W.\, Toronto\, ON\, Canada
X-APPLE-STRUCTURED-LOCATION;VALUE=URI;X-ADDRESS=1592 Queen St. W.\, Toronto
 \, ON\, Canada;X-APPLE-RADIUS=100;X-TITLE=Three Dollar Bill:geo:0,0
END:VEVENT
BEGIN:VTIMEZONE
TZID:America/Toronto
X-LIC-LOCATION:America/Toronto
BEGIN:DAYLIGHT
DTSTART:20260308T030000
TZOFFSETFROM:-0500
TZOFFSETTO:-0400
TZNAME:EDT
END:DAYLIGHT
END:VTIMEZONE
END:VCALENDAR