BEGIN:VCALENDAR
VERSION:2.0
PRODID:-//wp-events-plugin.com//7.0.4//EN
TZID:America/Toronto
X-WR-TIMEZONE:America/Toronto
BEGIN:VEVENT
UID:306@torontogothevents.com
DTSTART;TZID=America/Toronto:20250920T190000
DTEND;TZID=America/Toronto:20250920T230000
DTSTAMP:20250914T172940Z
URL:https://www.torontogothevents.com/events/viagra-boys/
SUMMARY:Viagra Boys with Shiv & The Carvers
DESCRIPTION:Swedish post-punks VIAGRA BOYS bring their Infinite Anxiety Tou
 r of 2025 to Toronto\, with guests SHIV &amp\; THE CARVERS.\n\ncost: $53.7
 5 to $78.50 at Ticketmaster\n\nmore info: History
ATTACH;FMTTYPE=image/jpeg:https://www.torontogothevents.com/wp-content/upl
 oads/2024/12/20250920_viagraboys.jpg
CATEGORIES:Concerts
LOCATION:History\, 1663 Queen St. E.\, Toronto\, ON\, Canada
X-APPLE-STRUCTURED-LOCATION;VALUE=URI;X-ADDRESS=1663 Queen St. E.\, Toronto
 \, ON\, Canada;X-APPLE-RADIUS=100;X-TITLE=History:geo:0,0
END:VEVENT
BEGIN:VTIMEZONE
TZID:America/Toronto
X-LIC-LOCATION:America/Toronto
BEGIN:DAYLIGHT
DTSTART:20250309T030000
TZOFFSETFROM:-0500
TZOFFSETTO:-0400
TZNAME:EDT
END:DAYLIGHT
END:VTIMEZONE
END:VCALENDAR