BEGIN:VCALENDAR
VERSION:2.0
PRODID:-//wp-events-plugin.com//7.0.4//EN
TZID:America/Toronto
X-WR-TIMEZONE:America/Toronto
BEGIN:VEVENT
UID:44@torontogothevents.com
DTSTART;TZID=America/Toronto:20241130T200000
DTEND;TZID=America/Toronto:20241130T235900
DTSTAMP:20241113T192404Z
URL:https://www.torontogothevents.com/events/world-news-with-precious-jewe
 l-feral-bats-lvithnn/
SUMMARY:World News with Precious Jewel\, Feral Bats & Lvithnn
DESCRIPTION:Toronto electronic music duo WORLD NEWS combine influences of a
 lternative house\, techno and punk. It's not precisely like anything else\
 , so it's hard to describe. Join them in celebrating the release of their 
 new cassette EP – Art As A Foundation VOLUME i (A.A.A.F. i).\n\nOpening 
 sets from PRECIOUS JEWEL\, FERAL BATS and LVITHNN.\n\ncost: $15 at DICE\n\
 nmore info: https://www.facebook.com/events/878705404235760
ATTACH;FMTTYPE=image/jpeg:https://www.torontogothevents.com/wp-content/upl
 oads/2024/10/20241130_worldnews.jpg
CATEGORIES:Concerts
LOCATION:The Baby G\, 1608 Dundas St. W.\, Toronto\, ON\, Canada
X-APPLE-STRUCTURED-LOCATION;VALUE=URI;X-ADDRESS=1608 Dundas St. W.\, Toront
 o\, ON\, Canada;X-APPLE-RADIUS=100;X-TITLE=The Baby G:geo:0,0
END:VEVENT
BEGIN:VTIMEZONE
TZID:America/Toronto
X-LIC-LOCATION:America/Toronto
BEGIN:STANDARD
DTSTART:20241103T010000
TZOFFSETFROM:-0400
TZOFFSETTO:-0500
TZNAME:EST
END:STANDARD
END:VTIMEZONE
END:VCALENDAR